BEGIN:VCALENDAR
VERSION:2.0
PRODID:-//Visit Fermo - ECPv6.15.12.2//NONSGML v1.0//EN
CALSCALE:GREGORIAN
METHOD:PUBLISH
X-WR-CALNAME:Visit Fermo
X-ORIGINAL-URL:https://www.visitfermo.it/it
X-WR-CALDESC:Events for Visit Fermo
REFRESH-INTERVAL;VALUE=DURATION:PT1H
X-Robots-Tag:noindex
X-PUBLISHED-TTL:PT1H
BEGIN:VTIMEZONE
TZID:Europe/Rome
BEGIN:DAYLIGHT
TZOFFSETFROM:+0100
TZOFFSETTO:+0200
TZNAME:CEST
DTSTART:20240331T010000
END:DAYLIGHT
BEGIN:STANDARD
TZOFFSETFROM:+0200
TZOFFSETTO:+0100
TZNAME:CET
DTSTART:20241027T010000
END:STANDARD
BEGIN:DAYLIGHT
TZOFFSETFROM:+0100
TZOFFSETTO:+0200
TZNAME:CEST
DTSTART:20250330T010000
END:DAYLIGHT
BEGIN:STANDARD
TZOFFSETFROM:+0200
TZOFFSETTO:+0100
TZNAME:CET
DTSTART:20251026T010000
END:STANDARD
BEGIN:DAYLIGHT
TZOFFSETFROM:+0100
TZOFFSETTO:+0200
TZNAME:CEST
DTSTART:20260329T010000
END:DAYLIGHT
BEGIN:STANDARD
TZOFFSETFROM:+0200
TZOFFSETTO:+0100
TZNAME:CET
DTSTART:20261025T010000
END:STANDARD
BEGIN:DAYLIGHT
TZOFFSETFROM:+0100
TZOFFSETTO:+0200
TZNAME:CEST
DTSTART:20270328T010000
END:DAYLIGHT
BEGIN:STANDARD
TZOFFSETFROM:+0200
TZOFFSETTO:+0100
TZNAME:CET
DTSTART:20271031T010000
END:STANDARD
BEGIN:DAYLIGHT
TZOFFSETFROM:+0100
TZOFFSETTO:+0200
TZNAME:CEST
DTSTART:20280326T010000
END:DAYLIGHT
BEGIN:STANDARD
TZOFFSETFROM:+0200
TZOFFSETTO:+0100
TZNAME:CET
DTSTART:20281029T010000
END:STANDARD
BEGIN:DAYLIGHT
TZOFFSETFROM:+0100
TZOFFSETTO:+0200
TZNAME:CEST
DTSTART:20290325T010000
END:DAYLIGHT
BEGIN:STANDARD
TZOFFSETFROM:+0200
TZOFFSETTO:+0100
TZNAME:CET
DTSTART:20291028T010000
END:STANDARD
BEGIN:DAYLIGHT
TZOFFSETFROM:+0100
TZOFFSETTO:+0200
TZNAME:CEST
DTSTART:20300331T010000
END:DAYLIGHT
BEGIN:STANDARD
TZOFFSETFROM:+0200
TZOFFSETTO:+0100
TZNAME:CET
DTSTART:20301027T010000
END:STANDARD
BEGIN:DAYLIGHT
TZOFFSETFROM:+0100
TZOFFSETTO:+0200
TZNAME:CEST
DTSTART:20310330T010000
END:DAYLIGHT
BEGIN:STANDARD
TZOFFSETFROM:+0200
TZOFFSETTO:+0100
TZNAME:CET
DTSTART:20311026T010000
END:STANDARD
BEGIN:DAYLIGHT
TZOFFSETFROM:+0100
TZOFFSETTO:+0200
TZNAME:CEST
DTSTART:20320328T010000
END:DAYLIGHT
BEGIN:STANDARD
TZOFFSETFROM:+0200
TZOFFSETTO:+0100
TZNAME:CET
DTSTART:20321031T010000
END:STANDARD
BEGIN:DAYLIGHT
TZOFFSETFROM:+0100
TZOFFSETTO:+0200
TZNAME:CEST
DTSTART:20330327T010000
END:DAYLIGHT
BEGIN:STANDARD
TZOFFSETFROM:+0200
TZOFFSETTO:+0100
TZNAME:CET
DTSTART:20331030T010000
END:STANDARD
BEGIN:DAYLIGHT
TZOFFSETFROM:+0100
TZOFFSETTO:+0200
TZNAME:CEST
DTSTART:20340326T010000
END:DAYLIGHT
BEGIN:STANDARD
TZOFFSETFROM:+0200
TZOFFSETTO:+0100
TZNAME:CET
DTSTART:20341029T010000
END:STANDARD
BEGIN:DAYLIGHT
TZOFFSETFROM:+0100
TZOFFSETTO:+0200
TZNAME:CEST
DTSTART:20350325T010000
END:DAYLIGHT
BEGIN:STANDARD
TZOFFSETFROM:+0200
TZOFFSETTO:+0100
TZNAME:CET
DTSTART:20351028T010000
END:STANDARD
BEGIN:DAYLIGHT
TZOFFSETFROM:+0100
TZOFFSETTO:+0200
TZNAME:CEST
DTSTART:20360330T010000
END:DAYLIGHT
BEGIN:STANDARD
TZOFFSETFROM:+0200
TZOFFSETTO:+0100
TZNAME:CET
DTSTART:20361026T010000
END:STANDARD
BEGIN:DAYLIGHT
TZOFFSETFROM:+0100
TZOFFSETTO:+0200
TZNAME:CEST
DTSTART:20370329T010000
END:DAYLIGHT
BEGIN:STANDARD
TZOFFSETFROM:+0200
TZOFFSETTO:+0100
TZNAME:CET
DTSTART:20371025T010000
END:STANDARD
END:VTIMEZONE
BEGIN:VTIMEZONE
TZID:Europe/Paris
BEGIN:DAYLIGHT
TZOFFSETFROM:+0100
TZOFFSETTO:+0200
TZNAME:CEST
DTSTART:20250330T010000
END:DAYLIGHT
BEGIN:STANDARD
TZOFFSETFROM:+0200
TZOFFSETTO:+0100
TZNAME:CET
DTSTART:20251026T010000
END:STANDARD
BEGIN:DAYLIGHT
TZOFFSETFROM:+0100
TZOFFSETTO:+0200
TZNAME:CEST
DTSTART:20260329T010000
END:DAYLIGHT
BEGIN:STANDARD
TZOFFSETFROM:+0200
TZOFFSETTO:+0100
TZNAME:CET
DTSTART:20261025T010000
END:STANDARD
BEGIN:DAYLIGHT
TZOFFSETFROM:+0100
TZOFFSETTO:+0200
TZNAME:CEST
DTSTART:20270328T010000
END:DAYLIGHT
BEGIN:STANDARD
TZOFFSETFROM:+0200
TZOFFSETTO:+0100
TZNAME:CET
DTSTART:20271031T010000
END:STANDARD
END:VTIMEZONE
BEGIN:VTIMEZONE
TZID:UTC
BEGIN:STANDARD
TZOFFSETFROM:+0000
TZOFFSETTO:+0000
TZNAME:UTC
DTSTART:20250101T000000
END:STANDARD
END:VTIMEZONE
BEGIN:VEVENT
DTSTART;VALUE=DATE:20250926
DTEND;VALUE=DATE:21000927
DTSTAMP:20260420T143102
CREATED:20251016T133002Z
LAST-MODIFIED:20251016T133003Z
UID:37972-1758844800-4125686399@www.visitfermo.it
SUMMARY:Paesaggio - Ciro Maddaluno
DESCRIPTION:
URL:https://www.visitfermo.it/it/eventi/paesaggio-ciro-maddaluno
LOCATION:Centro storico\, Piazza del Popolo\, 1\, Fermo\, FM\, 63900\, Italia
CATEGORIES:Mostre
ATTACH;FMTTYPE=image/jpeg:https://www.visitfermo.it/wp-content/uploads/2025/10/CIRO-PAESAGGIO-invito-def_22092025.jpg
END:VEVENT
BEGIN:VEVENT
DTSTART;TZID=Europe/Rome:20260317T090000
DTEND;TZID=Europe/Rome:20260503T233000
DTSTAMP:20260420T143102
CREATED:20260316T132147Z
LAST-MODIFIED:20260316T132338Z
UID:39862-1773738000-1777851000@www.visitfermo.it
SUMMARY:Cristina
DESCRIPTION:A Fermo la mostra immersiva “Cristina. Oltre la corona” dedicata a Cristina di Svezia nell’anniversario della sua nascita. \nUn viaggio immersivo nella vita di una delle figure più affascinanti e anticonformiste dell’Europa del Seicento. \nIl Palazzo dei Priori di Fermo ospiterà la mostra “Cristina oltre la corona”\, un progetto espositivo dedicato alla straordinaria personalità di Cristina di Svezia\, regina\, intellettuale e protagonista della cultura europea. \nLa mostra è promossa da Maggioli Cultura e dal Comune di Fermo\, in collaborazione con la Biblioteca civica Romolo Spezioli\, ed è curata da Lucia Mengoni\, Maria Chiara Michetti e Arianna Totò.
URL:https://www.visitfermo.it/it/eventi/cristina-2
LOCATION:Piazza del Popolo
CATEGORIES:Mostre
ATTACH;FMTTYPE=image/jpeg:https://www.visitfermo.it/wp-content/uploads/2026/03/0vdjiqFziAePWNLu1NHK_160126-100951-1.jpg
END:VEVENT
BEGIN:VEVENT
DTSTART;TZID=Europe/Rome:20260412T090000
DTEND;TZID=Europe/Rome:20260509T233000
DTSTAMP:20260420T143102
CREATED:20260331T145111Z
LAST-MODIFIED:20260331T145250Z
UID:40232-1775984400-1778369400@www.visitfermo.it
SUMMARY:Mostra d'arte di Ciro Stajano
DESCRIPTION:
URL:https://www.visitfermo.it/it/eventi/mostra-darte-di-ciro-stajano-2
LOCATION:Biblioteca Civica Romolo Spezioli
CATEGORIES:Mostre
ATTACH;FMTTYPE=image/jpeg:https://www.visitfermo.it/wp-content/uploads/2026/03/170610_WhatsAppImage2023-03-28at18.55.541.jpeg
END:VEVENT
BEGIN:VEVENT
DTSTART;TZID=Europe/Rome:20260420T160000
DTEND;TZID=Europe/Rome:20260420T233000
DTSTAMP:20260420T143102
CREATED:20260401T105846Z
LAST-MODIFIED:20260401T105847Z
UID:40277-1776700800-1776727800@www.visitfermo.it
SUMMARY:Interpetazione dei sogni
DESCRIPTION:
URL:https://www.visitfermo.it/it/eventi/interpetazione-dei-sogni/2026-04-20
LOCATION:Villa Vitali\, Italia
CATEGORIES:Incontri e conferenze
ATTACH;FMTTYPE=image/jpeg:https://www.visitfermo.it/wp-content/uploads/2026/03/Unipop-Locandina-e1774973770246.jpg
END:VEVENT
BEGIN:VEVENT
DTSTART;TZID=Europe/Paris:20260421T090000
DTEND;TZID=Europe/Paris:20260524T233000
DTSTAMP:20260420T143102
CREATED:20260409T142118Z
LAST-MODIFIED:20260409T142342Z
UID:40451-1776762000-1779665400@www.visitfermo.it
SUMMARY:Il biliardo a Fermo
DESCRIPTION:
URL:https://www.visitfermo.it/it/eventi/il-biliardo-a-fermo-7
LOCATION:Quartieri
CATEGORIES:Sport e tornei
ATTACH;FMTTYPE=image/jpeg:https://www.visitfermo.it/wp-content/uploads/2023/04/biliardo.jpg
END:VEVENT
BEGIN:VEVENT
DTSTART;TZID=UTC:20260421T100000
DTEND;TZID=UTC:20260421T110000
DTSTAMP:20260420T143102
CREATED:20251223T123420Z
LAST-MODIFIED:20260226T205100Z
UID:39184-1776765600-1776769200@www.visitfermo.it
SUMMARY:La Bella Addormentata?
DESCRIPTION:
URL:https://www.visitfermo.it/it/eventi/la-bella-addormentata-2/2026-04-21
LOCATION:Teatro dell’Aquila
CATEGORIES:Bambini
ATTACH;FMTTYPE=image/jpeg:https://www.visitfermo.it/wp-content/uploads/2025/12/la-bella-addormentata-1200x900-1.jpg
END:VEVENT
BEGIN:VEVENT
DTSTART;TZID=UTC:20260422T100000
DTEND;TZID=UTC:20260422T110000
DTSTAMP:20260420T143102
CREATED:20251223T123420Z
LAST-MODIFIED:20260226T205101Z
UID:39188-1776852000-1776855600@www.visitfermo.it
SUMMARY:La Bella Addormentata?
DESCRIPTION:
URL:https://www.visitfermo.it/it/eventi/la-bella-addormentata-2/2026-04-22
LOCATION:Teatro dell’Aquila
CATEGORIES:Bambini
ATTACH;FMTTYPE=image/jpeg:https://www.visitfermo.it/wp-content/uploads/2025/12/la-bella-addormentata-1200x900-1.jpg
END:VEVENT
BEGIN:VEVENT
DTSTART;TZID=Europe/Rome:20260422T143000
DTEND;TZID=Europe/Rome:20260422T233000
DTSTAMP:20260420T143102
CREATED:20260330T115417Z
LAST-MODIFIED:20260331T161631Z
UID:40076-1776868200-1776900600@www.visitfermo.it
SUMMARY:Corso base di disegno naturalistico
DESCRIPTION:
URL:https://www.visitfermo.it/it/eventi/corso-base-di-disegno-naturalistico/2026-04-22
LOCATION:Villa Vitali\, Italia
CATEGORIES:Incontri e conferenze
ATTACH;FMTTYPE=image/jpeg:https://www.visitfermo.it/wp-content/uploads/2026/03/Unipop-Locandina-e1774973770246.jpg
END:VEVENT
BEGIN:VEVENT
DTSTART;TZID=Europe/Rome:20260422T170000
DTEND;TZID=Europe/Rome:20260422T233000
DTSTAMP:20260420T143102
CREATED:20260306T133301Z
LAST-MODIFIED:20260416T123723Z
UID:40454-1776877200-1776900600@www.visitfermo.it
SUMMARY:La Ricchezza Nascosta
DESCRIPTION:
URL:https://www.visitfermo.it/it/eventi/la-ricchezza-nascosta/2026-04-22
LOCATION:Quartieri
CATEGORIES:Incontri e conferenze
ATTACH;FMTTYPE=image/jpeg:https://www.visitfermo.it/wp-content/uploads/2026/03/ALOE-locandina-001-2026-scaled-e1772706458540-768x458-1.jpg
END:VEVENT
BEGIN:VEVENT
DTSTART;TZID=Europe/Rome:20260422T184500
DTEND;TZID=Europe/Rome:20260422T233000
DTSTAMP:20260420T143102
CREATED:20260306T122431Z
LAST-MODIFIED:20260410T082830Z
UID:40456-1776883500-1776900600@www.visitfermo.it
SUMMARY:I Mestieri del Cinema
DESCRIPTION:
URL:https://www.visitfermo.it/it/eventi/i-mesteri-del-cinema/2026-04-22
LOCATION:Biblioteca Civica Romolo Spezioli
CATEGORIES:Incontri e conferenze
ATTACH;FMTTYPE=image/jpeg:https://www.visitfermo.it/wp-content/uploads/2026/03/Post-3-1.jpg
END:VEVENT
BEGIN:VEVENT
DTSTART;TZID=Europe/Rome:20260423T160000
DTEND;TZID=Europe/Rome:20260423T233000
DTSTAMP:20260420T143102
CREATED:20260401T083256Z
LAST-MODIFIED:20260401T083438Z
UID:40249-1776960000-1776987000@www.visitfermo.it
SUMMARY:Scoprire il giardino
DESCRIPTION:
URL:https://www.visitfermo.it/it/eventi/scoprire-il-giardino/2026-04-23
LOCATION:Villa Vitali\, Italia
CATEGORIES:Incontri e conferenze
ATTACH;FMTTYPE=image/jpeg:https://www.visitfermo.it/wp-content/uploads/2026/03/Unipop-Locandina-e1774973770246.jpg
END:VEVENT
BEGIN:VEVENT
DTSTART;TZID=Europe/Rome:20260423T173000
DTEND;TZID=Europe/Rome:20260423T233000
DTSTAMP:20260420T143102
CREATED:20260413T120155Z
LAST-MODIFIED:20260413T120155Z
UID:40532-1776965400-1776987000@www.visitfermo.it
SUMMARY:Lettura ad alta voce
DESCRIPTION:
URL:https://www.visitfermo.it/it/eventi/lettura-ad-alta-voce/2026-04-23
LOCATION:Villa Vitali\, Italia
CATEGORIES:Incontri e conferenze
ATTACH;FMTTYPE=image/jpeg:https://www.visitfermo.it/wp-content/uploads/2026/03/Unipop-Locandina-e1774973770246.jpg
END:VEVENT
BEGIN:VEVENT
DTSTART;TZID=Europe/Rome:20260423T184500
DTEND;TZID=Europe/Rome:20260423T233000
DTSTAMP:20260420T143102
CREATED:20260330T111035Z
LAST-MODIFIED:20260409T142914Z
UID:40458-1776969900-1776987000@www.visitfermo.it
SUMMARY:Fotografia narrativa - Storytelling visivo
DESCRIPTION:
URL:https://www.visitfermo.it/it/eventi/fotografia-narrativa-storytelling-visivo/2026-04-23
LOCATION:Biblioteca Civica Romolo Spezioli
CATEGORIES:Incontri e conferenze
ATTACH;FMTTYPE=image/jpeg:https://www.visitfermo.it/wp-content/uploads/2026/03/14k0twfeslmlgg8xvb.jpg14k0twfeslmlgg8xvb_1120x720.jpg
END:VEVENT
BEGIN:VEVENT
DTSTART;TZID=Europe/Rome:20260424T100000
DTEND;TZID=Europe/Rome:20260424T110000
DTSTAMP:20260420T143102
CREATED:20260413T121330Z
LAST-MODIFIED:20260413T121621Z
UID:40541-1777024800-1777028400@www.visitfermo.it
SUMMARY:La Bottega della storia racconta ...
DESCRIPTION:
URL:https://www.visitfermo.it/it/eventi/la-bottega-della-storia-racconta/2026-04-24
LOCATION:Villa Vitali\, Italia
CATEGORIES:Incontri e conferenze
ATTACH;FMTTYPE=image/jpeg:https://www.visitfermo.it/wp-content/uploads/2026/03/Unipop-Locandina-e1774973770246.jpg
END:VEVENT
BEGIN:VEVENT
DTSTART;TZID=Europe/Rome:20260424T150000
DTEND;TZID=Europe/Rome:20260424T233000
DTSTAMP:20260420T143102
CREATED:20260413T120623Z
LAST-MODIFIED:20260413T120624Z
UID:40538-1777042800-1777073400@www.visitfermo.it
SUMMARY:La Primavera in acquarello
DESCRIPTION:
URL:https://www.visitfermo.it/it/eventi/la-primavera-in-acquarello-2
LOCATION:Villa Vitali\, Italia
CATEGORIES:Incontri e conferenze
ATTACH;FMTTYPE=image/jpeg:https://www.visitfermo.it/wp-content/uploads/2026/03/Unipop-Locandina-e1774973770246.jpg
END:VEVENT
BEGIN:VEVENT
DTSTART;TZID=Europe/Rome:20260424T160000
DTEND;TZID=Europe/Rome:20260424T233000
DTSTAMP:20260420T143102
CREATED:20260413T122116Z
LAST-MODIFIED:20260413T122116Z
UID:40557-1777046400-1777073400@www.visitfermo.it
SUMMARY:La Bottega della storia racconta ...
DESCRIPTION:
URL:https://www.visitfermo.it/it/eventi/la-bottega-della-storia-racconta-2/2026-04-24
LOCATION:Villa Vitali\, Italia
CATEGORIES:Incontri e conferenze
ATTACH;FMTTYPE=image/jpeg:https://www.visitfermo.it/wp-content/uploads/2026/03/Unipop-Locandina-e1774973770246.jpg
END:VEVENT
BEGIN:VEVENT
DTSTART;TZID=Europe/Rome:20260424T170000
DTEND;TZID=Europe/Rome:20260424T233000
DTSTAMP:20260420T143102
CREATED:20260409T145019Z
LAST-MODIFIED:20260409T145020Z
UID:40467-1777050000-1777073400@www.visitfermo.it
SUMMARY:Convengo sulle Ricorrenze Francescane
DESCRIPTION:
URL:https://www.visitfermo.it/it/eventi/convengo-sulle-ricorrenze-francescane
LOCATION:Biblioteca Civica Romolo Spezioli
CATEGORIES:Incontri e conferenze
ATTACH;FMTTYPE=image/jpeg:https://www.visitfermo.it/wp-content/uploads/2026/04/Progetto-senza-titolo1.jpg
END:VEVENT
BEGIN:VEVENT
DTSTART;TZID=Europe/Rome:20260424T183000
DTEND;TZID=Europe/Rome:20260424T233000
DTSTAMP:20260420T143102
CREATED:20260311T135531Z
LAST-MODIFIED:20260416T122116Z
UID:40465-1777055400-1777073400@www.visitfermo.it
SUMMARY:Bucm (Book) Wyrms
DESCRIPTION:
URL:https://www.visitfermo.it/it/eventi/bucm-book-wyrms/2026-04-24
LOCATION:Biblioteca Civica Romolo Spezioli
CATEGORIES:Bambini,Incontri e conferenze
ATTACH;FMTTYPE=image/jpeg:https://www.visitfermo.it/wp-content/uploads/2026/03/giochi-da-tavolo.jpg
END:VEVENT
BEGIN:VEVENT
DTSTART;TZID=Europe/Rome:20260424T210000
DTEND;TZID=Europe/Rome:20260424T233000
DTSTAMP:20260420T143102
CREATED:20260312T143729Z
LAST-MODIFIED:20260409T143418Z
UID:39828-1777064400-1777073400@www.visitfermo.it
SUMMARY:Lui e gli amici del Re
DESCRIPTION:
URL:https://www.visitfermo.it/it/eventi/lui-e-gli-amici-del-re
LOCATION:Teatro dell’Aquila
CATEGORIES:Musica e spettacoli
ATTACH;FMTTYPE=image/png:https://www.visitfermo.it/wp-content/uploads/2026/03/CELE-Photoroom.png
END:VEVENT
BEGIN:VEVENT
DTSTART;TZID=Europe/Rome:20260425T100000
DTEND;TZID=Europe/Rome:20260425T233000
DTSTAMP:20260420T143102
CREATED:20260409T145445Z
LAST-MODIFIED:20260409T145446Z
UID:40481-1777111200-1777159800@www.visitfermo.it
SUMMARY:Pizzetta Fritta Day
DESCRIPTION:
URL:https://www.visitfermo.it/it/eventi/pizzetta-fritta-day
LOCATION:Capodarco
CATEGORIES:Enogastronomia,Feste e sagre,Fiere e mercatini,Musica e spettacoli
ATTACH;FMTTYPE=image/jpeg:https://www.visitfermo.it/wp-content/uploads/2026/04/653708455_1251883430386012_8052083880349636302_n.jpg
END:VEVENT
BEGIN:VEVENT
DTSTART;TZID=Europe/Rome:20260426T090000
DTEND;TZID=Europe/Rome:20260426T233000
DTSTAMP:20260420T143102
CREATED:20260401T123843Z
LAST-MODIFIED:20260401T123843Z
UID:40318-1777194000-1777246200@www.visitfermo.it
SUMMARY:Camminata ecologica sul Lungomare Fermano
DESCRIPTION:
URL:https://www.visitfermo.it/it/eventi/camminata-ecologica-sul-lungomare-fermano
LOCATION:Lido di Fermo\, Lungomare fermano\, Fermo\, FM\, 63900\, Italia
CATEGORIES:Salute e benessere
ATTACH;FMTTYPE=image/jpeg:https://www.visitfermo.it/wp-content/uploads/2026/04/351143994_994220068262601_2440440095272568058_n.jpg
END:VEVENT
BEGIN:VEVENT
DTSTART;TZID=Europe/Paris:20260426T090000
DTEND;TZID=Europe/Paris:20260426T233000
DTSTAMP:20260420T143102
CREATED:20260409T145621Z
LAST-MODIFIED:20260409T150322Z
UID:40491-1777194000-1777246200@www.visitfermo.it
SUMMARY:Arte e Sapori
DESCRIPTION:
URL:https://www.visitfermo.it/it/eventi/arte-e-sapori-32
LOCATION:Lido di Fermo\, Lungomare fermano\, Fermo\, FM\, 63900\, Italia
CATEGORIES:Enogastronomia,Fiere e mercatini
ATTACH;FMTTYPE=image/png:https://www.visitfermo.it/wp-content/uploads/2026/04/496486725_1125512939615552_2312574074464783072_n-Photoroom-1-e1775746985295.png
END:VEVENT
BEGIN:VEVENT
DTSTART;TZID=Europe/Rome:20260426T180000
DTEND;TZID=Europe/Rome:20260426T233000
DTSTAMP:20260420T143102
CREATED:20251224T104027Z
LAST-MODIFIED:20260129T085318Z
UID:39240-1777226400-1777246200@www.visitfermo.it
SUMMARY:Augustin Hadelich / Charles Owen
DESCRIPTION:PROGRAMMA \nN. De Grigny\nRecit du Chant (da Pange Lingua) (transcr. Hadelich) \nC. Debussy\nSonata n. 3 in sol minore per violino e pianoforte\, L 148 \nT. Takemitsu\nDistance de Fée (1951) \nF. Poulenc\nSonata per violino e pianoforte \nE. Ysaÿe\nSonata n. 5 in sol maggiore\nop. 27/5 per violino solo \nS. Prokofiev\nSonata n. 2 in re maggiore op. 94b
URL:https://www.visitfermo.it/it/eventi/augustin-hadelich-violino-charles-owen-pianoforte
LOCATION:Teatro dell’Aquila
CATEGORIES:Concertistica
ATTACH;FMTTYPE=image/jpeg:https://www.visitfermo.it/wp-content/uploads/2025/12/P1381367_Augustin_Hadelich__Charles_Owen_Meisterkonzert.jpg
END:VEVENT
BEGIN:VEVENT
DTSTART;TZID=Europe/Rome:20260427T160000
DTEND;TZID=Europe/Rome:20260427T233000
DTSTAMP:20260420T143102
CREATED:20260401T105846Z
LAST-MODIFIED:20260401T105846Z
UID:40279-1777305600-1777332600@www.visitfermo.it
SUMMARY:Interpetazione dei sogni
DESCRIPTION:
URL:https://www.visitfermo.it/it/eventi/interpetazione-dei-sogni/2026-04-27
LOCATION:Villa Vitali\, Italia
CATEGORIES:Incontri e conferenze
ATTACH;FMTTYPE=image/jpeg:https://www.visitfermo.it/wp-content/uploads/2026/03/Unipop-Locandina-e1774973770246.jpg
END:VEVENT
BEGIN:VEVENT
DTSTART;TZID=Europe/Rome:20260428T190000
DTEND;TZID=Europe/Rome:20260428T233000
DTSTAMP:20260420T143102
CREATED:20260410T074357Z
LAST-MODIFIED:20260410T082712Z
UID:40513-1777402800-1777419000@www.visitfermo.it
SUMMARY:Cristina
DESCRIPTION:A Fermo la mostra immersiva “Cristina. Oltre la corona” dedicata a Cristina di Svezia nell’anniversario della sua nascita. \nUn viaggio immersivo nella vita di una delle figure più affascinanti e anticonformiste dell’Europa del Seicento. \nIl Palazzo dei Priori di Fermo ospiterà la mostra “Cristina oltre la corona”\, un progetto espositivo dedicato alla straordinaria personalità di Cristina di Svezia\, regina\, intellettuale e protagonista della cultura europea. \nLa mostra è promossa da Maggioli Cultura e dal Comune di Fermo\, in collaborazione con la Biblioteca civica Romolo Spezioli\, ed è curata da Lucia Mengoni\, Maria Chiara Michetti e Arianna Totò.
URL:https://www.visitfermo.it/it/eventi/cristina-3
LOCATION:Piazza del Popolo
CATEGORIES:Mostre
ATTACH;FMTTYPE=image/jpeg:https://www.visitfermo.it/wp-content/uploads/2026/03/0vdjiqFziAePWNLu1NHK_160126-100951-1.jpg
END:VEVENT
BEGIN:VEVENT
DTSTART;TZID=Europe/Rome:20260428T190000
DTEND;TZID=Europe/Rome:20260428T233000
DTSTAMP:20260420T143102
CREATED:20260413T122505Z
LAST-MODIFIED:20260413T122508Z
UID:40562-1777402800-1777419000@www.visitfermo.it
SUMMARY:Se non ci fosse la luna ... Due telescopi
DESCRIPTION:
URL:https://www.visitfermo.it/it/eventi/se-non-ci-fosse-la-luna-due-telescopi
LOCATION:Villa Vitali\, Italia
CATEGORIES:Incontri e conferenze,Musica e spettacoli
ATTACH;FMTTYPE=image/jpeg:https://www.visitfermo.it/wp-content/uploads/2026/03/Unipop-Locandina-e1774973770246.jpg
END:VEVENT
BEGIN:VEVENT
DTSTART;TZID=Europe/Rome:20260429T103000
DTEND;TZID=Europe/Rome:20260429T233000
DTSTAMP:20260420T143102
CREATED:20260320T114631Z
LAST-MODIFIED:20260320T114631Z
UID:39935-1777458600-1777505400@www.visitfermo.it
SUMMARY:Oltre lo sport
DESCRIPTION:Serie di eventi nel mese di marzo\, programmati nell’ambito del progetto “Oltre lo sport. Palestra di convinvenze”\, cofinanziato dal Fondo Politiche Giovanili 2022 (Bando ANCI spazi e immobili pubblici) per promuovere il nuovo polo sportivo di Lido Tre Archi e i valori dello sport come contesto di integrazione e crescita umana. \nIl progetto ha consentito di individuare e dare in gestione ad un’associazione composta prevalentemente da giovani under 35 gli spazi e le strutture sportive nate nel quartiere di Lido Tre Archi attraverso i fondi del bando Periferie.
URL:https://www.visitfermo.it/it/eventi/oltre-lo-sport/2026-04-29
LOCATION:Quartieri
CATEGORIES:Sport e tornei
ATTACH;FMTTYPE=image/jpeg:https://www.visitfermo.it/wp-content/uploads/2026/03/Post-2026.jpg
END:VEVENT
BEGIN:VEVENT
DTSTART;TZID=Europe/Rome:20260429T143000
DTEND;TZID=Europe/Rome:20260429T233000
DTSTAMP:20260420T143102
CREATED:20260330T115417Z
LAST-MODIFIED:20260331T161632Z
UID:40077-1777473000-1777505400@www.visitfermo.it
SUMMARY:Corso base di disegno naturalistico
DESCRIPTION:
URL:https://www.visitfermo.it/it/eventi/corso-base-di-disegno-naturalistico/2026-04-29
LOCATION:Villa Vitali\, Italia
CATEGORIES:Incontri e conferenze
ATTACH;FMTTYPE=image/jpeg:https://www.visitfermo.it/wp-content/uploads/2026/03/Unipop-Locandina-e1774973770246.jpg
END:VEVENT
BEGIN:VEVENT
DTSTART;TZID=Europe/Rome:20260429T184500
DTEND;TZID=Europe/Rome:20260429T233000
DTSTAMP:20260420T143102
CREATED:20260306T122431Z
LAST-MODIFIED:20260410T082826Z
UID:40516-1777488300-1777505400@www.visitfermo.it
SUMMARY:I Mestieri del Cinema
DESCRIPTION:
URL:https://www.visitfermo.it/it/eventi/i-mesteri-del-cinema/2026-04-29
LOCATION:Biblioteca Civica Romolo Spezioli
CATEGORIES:Incontri e conferenze
ATTACH;FMTTYPE=image/jpeg:https://www.visitfermo.it/wp-content/uploads/2026/03/Post-3-1.jpg
END:VEVENT
BEGIN:VEVENT
DTSTART;TZID=Europe/Paris:20260430T090000
DTEND;TZID=Europe/Paris:20260504T233000
DTSTAMP:20260420T143102
CREATED:20260410T083301Z
LAST-MODIFIED:20260410T120229Z
UID:40519-1777539600-1777937400@www.visitfermo.it
SUMMARY:Fermo in Acquarello V edizione
DESCRIPTION:
URL:https://www.visitfermo.it/it/eventi/fermo-in-acquarello-v-edizione
LOCATION:Centro storico\, Piazza del Popolo\, 1\, Fermo\, FM\, 63900\, Italia
CATEGORIES:Incontri e conferenze,Mostre
ATTACH;FMTTYPE=image/jpeg:https://www.visitfermo.it/wp-content/uploads/2026/04/661847661_26861068330164718_7644188361417003935_n.jpg
END:VEVENT
END:VCALENDAR