BEGIN:VCALENDAR
VERSION:2.0
PRODID:-//Visit Fermo - ECPv6.15.12.2//NONSGML v1.0//EN
CALSCALE:GREGORIAN
METHOD:PUBLISH
X-ORIGINAL-URL:https://www.visitfermo.it/en
X-WR-CALDESC:Events for Visit Fermo
REFRESH-INTERVAL;VALUE=DURATION:PT1H
X-Robots-Tag:noindex
X-PUBLISHED-TTL:PT1H
BEGIN:VTIMEZONE
TZID:Europe/Rome
BEGIN:DAYLIGHT
TZOFFSETFROM:+0100
TZOFFSETTO:+0200
TZNAME:CEST
DTSTART:20240331T010000
END:DAYLIGHT
BEGIN:STANDARD
TZOFFSETFROM:+0200
TZOFFSETTO:+0100
TZNAME:CET
DTSTART:20241027T010000
END:STANDARD
BEGIN:DAYLIGHT
TZOFFSETFROM:+0100
TZOFFSETTO:+0200
TZNAME:CEST
DTSTART:20250330T010000
END:DAYLIGHT
BEGIN:STANDARD
TZOFFSETFROM:+0200
TZOFFSETTO:+0100
TZNAME:CET
DTSTART:20251026T010000
END:STANDARD
BEGIN:DAYLIGHT
TZOFFSETFROM:+0100
TZOFFSETTO:+0200
TZNAME:CEST
DTSTART:20260329T010000
END:DAYLIGHT
BEGIN:STANDARD
TZOFFSETFROM:+0200
TZOFFSETTO:+0100
TZNAME:CET
DTSTART:20261025T010000
END:STANDARD
BEGIN:DAYLIGHT
TZOFFSETFROM:+0100
TZOFFSETTO:+0200
TZNAME:CEST
DTSTART:20270328T010000
END:DAYLIGHT
BEGIN:STANDARD
TZOFFSETFROM:+0200
TZOFFSETTO:+0100
TZNAME:CET
DTSTART:20271031T010000
END:STANDARD
BEGIN:DAYLIGHT
TZOFFSETFROM:+0100
TZOFFSETTO:+0200
TZNAME:CEST
DTSTART:20280326T010000
END:DAYLIGHT
BEGIN:STANDARD
TZOFFSETFROM:+0200
TZOFFSETTO:+0100
TZNAME:CET
DTSTART:20281029T010000
END:STANDARD
BEGIN:DAYLIGHT
TZOFFSETFROM:+0100
TZOFFSETTO:+0200
TZNAME:CEST
DTSTART:20290325T010000
END:DAYLIGHT
BEGIN:STANDARD
TZOFFSETFROM:+0200
TZOFFSETTO:+0100
TZNAME:CET
DTSTART:20291028T010000
END:STANDARD
BEGIN:DAYLIGHT
TZOFFSETFROM:+0100
TZOFFSETTO:+0200
TZNAME:CEST
DTSTART:20300331T010000
END:DAYLIGHT
BEGIN:STANDARD
TZOFFSETFROM:+0200
TZOFFSETTO:+0100
TZNAME:CET
DTSTART:20301027T010000
END:STANDARD
BEGIN:DAYLIGHT
TZOFFSETFROM:+0100
TZOFFSETTO:+0200
TZNAME:CEST
DTSTART:20310330T010000
END:DAYLIGHT
BEGIN:STANDARD
TZOFFSETFROM:+0200
TZOFFSETTO:+0100
TZNAME:CET
DTSTART:20311026T010000
END:STANDARD
BEGIN:DAYLIGHT
TZOFFSETFROM:+0100
TZOFFSETTO:+0200
TZNAME:CEST
DTSTART:20320328T010000
END:DAYLIGHT
BEGIN:STANDARD
TZOFFSETFROM:+0200
TZOFFSETTO:+0100
TZNAME:CET
DTSTART:20321031T010000
END:STANDARD
BEGIN:DAYLIGHT
TZOFFSETFROM:+0100
TZOFFSETTO:+0200
TZNAME:CEST
DTSTART:20330327T010000
END:DAYLIGHT
BEGIN:STANDARD
TZOFFSETFROM:+0200
TZOFFSETTO:+0100
TZNAME:CET
DTSTART:20331030T010000
END:STANDARD
BEGIN:DAYLIGHT
TZOFFSETFROM:+0100
TZOFFSETTO:+0200
TZNAME:CEST
DTSTART:20340326T010000
END:DAYLIGHT
BEGIN:STANDARD
TZOFFSETFROM:+0200
TZOFFSETTO:+0100
TZNAME:CET
DTSTART:20341029T010000
END:STANDARD
BEGIN:DAYLIGHT
TZOFFSETFROM:+0100
TZOFFSETTO:+0200
TZNAME:CEST
DTSTART:20350325T010000
END:DAYLIGHT
BEGIN:STANDARD
TZOFFSETFROM:+0200
TZOFFSETTO:+0100
TZNAME:CET
DTSTART:20351028T010000
END:STANDARD
BEGIN:DAYLIGHT
TZOFFSETFROM:+0100
TZOFFSETTO:+0200
TZNAME:CEST
DTSTART:20360330T010000
END:DAYLIGHT
BEGIN:STANDARD
TZOFFSETFROM:+0200
TZOFFSETTO:+0100
TZNAME:CET
DTSTART:20361026T010000
END:STANDARD
BEGIN:DAYLIGHT
TZOFFSETFROM:+0100
TZOFFSETTO:+0200
TZNAME:CEST
DTSTART:20370329T010000
END:DAYLIGHT
BEGIN:STANDARD
TZOFFSETFROM:+0200
TZOFFSETTO:+0100
TZNAME:CET
DTSTART:20371025T010000
END:STANDARD
END:VTIMEZONE
BEGIN:VTIMEZONE
TZID:Europe/Paris
BEGIN:DAYLIGHT
TZOFFSETFROM:+0100
TZOFFSETTO:+0200
TZNAME:CEST
DTSTART:20250330T010000
END:DAYLIGHT
BEGIN:STANDARD
TZOFFSETFROM:+0200
TZOFFSETTO:+0100
TZNAME:CET
DTSTART:20251026T010000
END:STANDARD
BEGIN:DAYLIGHT
TZOFFSETFROM:+0100
TZOFFSETTO:+0200
TZNAME:CEST
DTSTART:20260329T010000
END:DAYLIGHT
BEGIN:STANDARD
TZOFFSETFROM:+0200
TZOFFSETTO:+0100
TZNAME:CET
DTSTART:20261025T010000
END:STANDARD
BEGIN:DAYLIGHT
TZOFFSETFROM:+0100
TZOFFSETTO:+0200
TZNAME:CEST
DTSTART:20270328T010000
END:DAYLIGHT
BEGIN:STANDARD
TZOFFSETFROM:+0200
TZOFFSETTO:+0100
TZNAME:CET
DTSTART:20271031T010000
END:STANDARD
END:VTIMEZONE
BEGIN:VTIMEZONE
TZID:UTC
BEGIN:STANDARD
TZOFFSETFROM:+0000
TZOFFSETTO:+0000
TZNAME:UTC
DTSTART:20250101T000000
END:STANDARD
END:VTIMEZONE
BEGIN:VEVENT
DTSTART;VALUE=DATE:20250926
DTEND;VALUE=DATE:21000927
DTSTAMP:20260421T144234
CREATED:20251016T133002Z
LAST-MODIFIED:20251016T133003Z
UID:37972-1758844800-4125686399@www.visitfermo.it
SUMMARY:Paesaggio - Ciro Maddaluno
DESCRIPTION:
URL:https://www.visitfermo.it/en/eventi/paesaggio-ciro-maddaluno
LOCATION:Centro storico\, Piazza del Popolo\, 1\, Fermo\, FM\, 63900\, Italia
CATEGORIES:Mostre
ATTACH;FMTTYPE=image/jpeg:https://www.visitfermo.it/wp-content/uploads/2025/10/CIRO-PAESAGGIO-invito-def_22092025.jpg
END:VEVENT
BEGIN:VEVENT
DTSTART;TZID=Europe/Rome:20260317T090000
DTEND;TZID=Europe/Rome:20260503T233000
DTSTAMP:20260421T144234
CREATED:20260316T132147Z
LAST-MODIFIED:20260316T132338Z
UID:39862-1773738000-1777851000@www.visitfermo.it
SUMMARY:Cristina
DESCRIPTION:A Fermo la mostra immersiva “Cristina. Oltre la corona” dedicata a Cristina di Svezia nell’anniversario della sua nascita. \nUn viaggio immersivo nella vita di una delle figure più affascinanti e anticonformiste dell’Europa del Seicento. \nIl Palazzo dei Priori di Fermo ospiterà la mostra “Cristina oltre la corona”\, un progetto espositivo dedicato alla straordinaria personalità di Cristina di Svezia\, regina\, intellettuale e protagonista della cultura europea. \nLa mostra è promossa da Maggioli Cultura e dal Comune di Fermo\, in collaborazione con la Biblioteca civica Romolo Spezioli\, ed è curata da Lucia Mengoni\, Maria Chiara Michetti e Arianna Totò.
URL:https://www.visitfermo.it/en/eventi/cristina-2
LOCATION:Piazza del Popolo
CATEGORIES:Mostre
ATTACH;FMTTYPE=image/jpeg:https://www.visitfermo.it/wp-content/uploads/2026/03/0vdjiqFziAePWNLu1NHK_160126-100951-1.jpg
END:VEVENT
BEGIN:VEVENT
DTSTART;TZID=Europe/Rome:20260412T090000
DTEND;TZID=Europe/Rome:20260509T233000
DTSTAMP:20260421T144234
CREATED:20260331T145111Z
LAST-MODIFIED:20260331T145250Z
UID:40232-1775984400-1778369400@www.visitfermo.it
SUMMARY:Mostra d'arte di Ciro Stajano
DESCRIPTION:
URL:https://www.visitfermo.it/en/eventi/mostra-darte-di-ciro-stajano-2
LOCATION:Biblioteca Civica Romolo Spezioli
CATEGORIES:Mostre
ATTACH;FMTTYPE=image/jpeg:https://www.visitfermo.it/wp-content/uploads/2026/03/170610_WhatsAppImage2023-03-28at18.55.541.jpeg
END:VEVENT
BEGIN:VEVENT
DTSTART;TZID=Europe/Paris:20260421T090000
DTEND;TZID=Europe/Paris:20260524T233000
DTSTAMP:20260421T144234
CREATED:20260409T142118Z
LAST-MODIFIED:20260409T142342Z
UID:40451-1776762000-1779665400@www.visitfermo.it
SUMMARY:Il biliardo a Fermo
DESCRIPTION:
URL:https://www.visitfermo.it/en/eventi/il-biliardo-a-fermo-7
LOCATION:Quartieri
CATEGORIES:Sport e tornei
ATTACH;FMTTYPE=image/jpeg:https://www.visitfermo.it/wp-content/uploads/2023/04/biliardo.jpg
END:VEVENT
BEGIN:VEVENT
DTSTART;TZID=UTC:20260421T100000
DTEND;TZID=UTC:20260421T110000
DTSTAMP:20260421T144234
CREATED:20251223T123420Z
LAST-MODIFIED:20260226T205100Z
UID:39184-1776765600-1776769200@www.visitfermo.it
SUMMARY:La Bella Addormentata?
DESCRIPTION:
URL:https://www.visitfermo.it/en/eventi/la-bella-addormentata-2/2026-04-21
LOCATION:Teatro dell’Aquila
CATEGORIES:Bambini
ATTACH;FMTTYPE=image/jpeg:https://www.visitfermo.it/wp-content/uploads/2025/12/la-bella-addormentata-1200x900-1.jpg
END:VEVENT
END:VCALENDAR