BEGIN:VCALENDAR
VERSION:2.0
PRODID:-//Visit Fermo - ECPv6.15.12.2//NONSGML v1.0//EN
CALSCALE:GREGORIAN
METHOD:PUBLISH
X-ORIGINAL-URL:https://www.visitfermo.it/en
X-WR-CALDESC:Events for Visit Fermo
REFRESH-INTERVAL;VALUE=DURATION:PT1H
X-Robots-Tag:noindex
X-PUBLISHED-TTL:PT1H
BEGIN:VTIMEZONE
TZID:Europe/Paris
BEGIN:DAYLIGHT
TZOFFSETFROM:+0100
TZOFFSETTO:+0200
TZNAME:CEST
DTSTART:20250330T010000
END:DAYLIGHT
BEGIN:STANDARD
TZOFFSETFROM:+0200
TZOFFSETTO:+0100
TZNAME:CET
DTSTART:20251026T010000
END:STANDARD
BEGIN:DAYLIGHT
TZOFFSETFROM:+0100
TZOFFSETTO:+0200
TZNAME:CEST
DTSTART:20260329T010000
END:DAYLIGHT
BEGIN:STANDARD
TZOFFSETFROM:+0200
TZOFFSETTO:+0100
TZNAME:CET
DTSTART:20261025T010000
END:STANDARD
BEGIN:DAYLIGHT
TZOFFSETFROM:+0100
TZOFFSETTO:+0200
TZNAME:CEST
DTSTART:20270328T010000
END:DAYLIGHT
BEGIN:STANDARD
TZOFFSETFROM:+0200
TZOFFSETTO:+0100
TZNAME:CET
DTSTART:20271031T010000
END:STANDARD
END:VTIMEZONE
BEGIN:VEVENT
DTSTART;TZID=Europe/Paris:20260501T100000
DTEND;TZID=Europe/Paris:20260501T200000
DTSTAMP:20260420T222710
CREATED:20260414T093655Z
LAST-MODIFIED:20260414T094141Z
UID:40573-1777629600-1777665600@www.visitfermo.it
SUMMARY:Il PIC-NIC è servito
DESCRIPTION:
URL:https://www.visitfermo.it/en/eventi/il-pic-nic-e-servito
LOCATION:Lido di Fermo\, Lungomare fermano\, Fermo\, FM\, 63900\, Italia
CATEGORIES:Bambini,Enogastronomia,Feste e sagre
ATTACH;FMTTYPE=image/jpeg:https://www.visitfermo.it/wp-content/uploads/2026/04/351143994_994220068262601_2440440095272568058_n.jpg
END:VEVENT
END:VCALENDAR